BEGIN:VCALENDAR
VERSION:2.0
PRODID:-//BMX Queensland - ECPv4.9.11//NONSGML v1.0//EN
CALSCALE:GREGORIAN
METHOD:PUBLISH
X-WR-CALNAME:BMX Queensland
X-ORIGINAL-URL:https://www.bmxq.org.au
X-WR-CALDESC:Events for BMX Queensland
BEGIN:VTIMEZONE
TZID:UTC
BEGIN:STANDARD
TZOFFSETFROM:+0000
TZOFFSETTO:+0000
TZNAME:UTC
DTSTART:20200101T000000
END:STANDARD
END:VTIMEZONE
BEGIN:VEVENT
DTSTART;VALUE=DATE:20200905
DTEND;VALUE=DATE:20200906
DTSTAMP:20210301T033200
CREATED:20200120T012542Z
LAST-MODIFIED:20200812T003855Z
UID:227599-1599264000-1599350399@www.bmxq.org.au
SUMMARY:2020 Bundaberg BMX Club (T)
DESCRIPTION:Don’t miss out on Bundaberg’s “2020 COVID CLASSIC” being held on the 5 of September. Please see below document for the up to date Technical Guide for these events\, there you will find all the information required. Click Here\nNOMINATIONS – REGISTER ONLINE\nThis event is pre-entry online only: Click Here\nMini Wheelers and Sprockets nominations close 1st September. All other classes nominations close 3rd September.\nLate entries will be accepted until 4th September with a late nom fee of $20. A rider who is granted late entry must have their own transponder. Please contact the registrar directly for late entries.\nNomination Fee does not include a $6 hired transponder.\nIf a non-valid transponder number is entered on-line\, a fee of $10 will apply for a hired transponder (subject to availability). No refunds will be permitted should a non-valid transponder number be entered on-line and all hired transponders be fully allocated.\nEnquiries – Registrar – Glenda Cooper – bundybmxclub@gmail.com\n  \n  \n\n \n
URL:https://www.bmxq.org.au/event/2020-bundaberg-bmx-club-t/
LOCATION:Bundaberg BMX Club\, Airport Drive\, Bundaberg\, Queensland\, 4670\, Australia
CATEGORIES:Races
ATTACH;FMTTYPE=image/jpeg:https://www.bmxq.org.au/wp-content/uploads/2019/11/Bundaberg-BMX.jpg
ORGANIZER;CN="Bundaberg%20BMX%20Club":MAILTO:bundybmxclub@gmail.com
END:VEVENT
END:VCALENDAR